BEGIN:VCALENDAR
VERSION:2.0
PRODID:-//csshope.org//NONSGML kigkonsult.se iCalcreator 2.30.10//
CALSCALE:GREGORIAN
METHOD:PUBLISH
UID:250f9f32-59e0-4580-b4f4-0c51ce56ea76
X-WR-CALDESC:
X-WR-RELCALID:f4beca227d9e6fda84f5894c14afeadf
X-WR-TIMEZONE:America/Chicago
BEGIN:VTIMEZONE
TZID:America/Chicago
BEGIN:STANDARD
TZNAME:CST
DTSTART:20221106T020000
TZOFFSETFROM:-0500
TZOFFSETTO:-0600
RDATE:20231105T020000
RDATE:20241103T020000
END:STANDARD
BEGIN:DAYLIGHT
TZNAME:CDT
DTSTART:20230312T020000
TZOFFSETFROM:-0600
TZOFFSETTO:-0500
RDATE:20240310T020000
END:DAYLIGHT
END:VTIMEZONE
BEGIN:VEVENT
UID:afbee8c6-be2d-49ab-ab98-58dd49ff64fc
DTSTAMP:20260419T133908Z
DESCRIPTION:
DTSTART;TZID=America/Chicago:20230520T000000
DTEND;TZID=America/Chicago:20230604T235900
LOCATION:7601 Vine St\,\, Lincoln\, NE 68505 US
SUMMARY:Walk to End Hunger Parish Food Drive: St. John's (Lincoln)
END:VEVENT
END:VCALENDAR
